View In:
ArcGIS JavaScript
ArcGIS Online Map Viewer
ArcGIS Earth
ArcMap
View Footprint In:
ArcGIS Online Map Viewer
Service Description: Ortho Flown Sept 2024
Name: Orthos/Vanderbilt_Sep24
Description: Ortho Flown Sept 2024
Single Fused Map Cache: false
Extent:
XMin: 1727891.5735266795
YMin: 656972.2211309616
XMax: 1733952.8734966796
YMax: 662878.4591609616
Spatial Reference: 102736
(2274)
Initial Extent:
XMin: 1727891.5735266795
YMin: 656972.2211309616
XMax: 1733952.8734966796
YMax: 662878.4591609616
Spatial Reference: 102736
(2274)
Full Extent:
XMin: 1727891.5735266795
YMin: 656972.2211309616
XMax: 1733952.8734966796
YMax: 662878.4591609616
Spatial Reference: 102736
(2274)
Pixel Size X: 0.12287000000000103
Pixel Size Y: 0.12287000000000016
Band Count: 4
Pixel Type: U8
RasterFunction Infos: {"rasterFunctionInfos": [{
"name": "None",
"description": "",
"help": ""
}]}
Mensuration Capabilities: Basic
Has Histograms: true
Has Colormap: false
Has Multi Dimensions : false
Rendering Rule:
Min Scale: 0
Max Scale: 0
Copyright Text:
Service Data Type: esriImageServiceDataTypeGeneric
Min Values: 0, 0, 0, 0
Max Values: 255, 255, 255, 255
Mean Values: 69.521812527427, 70.719623415596, 59.764145368824, 143.23197438596
Standard Deviation Values: 71.709641412453, 71.560327255565, 67.353177748755, 126.52570880532
Object ID Field:
Fields:
None
Default Mosaic Method: Center
Allowed Mosaic Methods:
SortField:
SortValue: null
Mosaic Operator: First
Default Compression Quality: 75
Default Resampling Method: Bilinear
Max Record Count: null
Max Image Height: 4100
Max Image Width: 15000
Max Download Image Count: null
Max Mosaic Image Count: null
Allow Raster Function: true
Allow Copy: null
Allow Analysis: null
Allow Compute TiePoints: false
Supports Statistics: false
Supports Advanced Queries: false
Use StandardizedQueries: true
Raster Type Infos:
Name: Raster Dataset
Description: Supports all ArcGIS Raster Datasets
Help:
Has Raster Attribute Table: false
Edit Fields Info: null
Ownership Based AccessControl For Rasters: null
Child Resources:
Info
Histograms
Key Properties
Legend
Raster Function Infos
Supported Operations:
Export Image
Identify
Measure
Compute Histograms
Compute Statistics Histograms
Get Samples
Compute Class Statistics
Query Boundary
Compute Pixel Location
Compute Angles
Validate
Project