{
 "currentVersion": 10.91,
 "serviceDescription": "Ortho Flown Sept 2024",
 "name": "Orthos/Vanderbilt_Sep24",
 "description": "Ortho Flown Sept 2024",
 "extent": {
  "xmin": 1727891.5735266795,
  "ymin": 656972.2211309616,
  "xmax": 1733952.8734966796,
  "ymax": 662878.4591609616,
  "spatialReference": {
   "wkid": 102736,
   "latestWkid": 2274
  }
 },
 "initialExtent": {
  "xmin": 1727891.5735266795,
  "ymin": 656972.2211309616,
  "xmax": 1733952.8734966796,
  "ymax": 662878.4591609616,
  "spatialReference": {
   "wkid": 102736,
   "latestWkid": 2274
  }
 },
 "fullExtent": {
  "xmin": 1727891.5735266795,
  "ymin": 656972.2211309616,
  "xmax": 1733952.8734966796,
  "ymax": 662878.4591609616,
  "spatialReference": {
   "wkid": 102736,
   "latestWkid": 2274
  }
 },
 "pixelSizeX": 0.12287000000000103,
 "pixelSizeY": 0.12287000000000016,
 "bandCount": 4,
 "pixelType": "U8",
 "minPixelSize": 0,
 "maxPixelSize": 0,
 "copyrightText": "",
 "serviceDataType": "esriImageServiceDataTypeGeneric",
 "minValues": [
  0,
  0,
  0,
  0
 ],
 "maxValues": [
  255,
  255,
  255,
  255
 ],
 "meanValues": [
  69.521812527427,
  70.719623415596,
  59.764145368824,
  143.23197438596
 ],
 "stdvValues": [
  71.709641412453,
  71.560327255565,
  67.353177748755,
  126.52570880532
 ],
 "objectIdField": "",
 "fields": [],
 "capabilities": "Image,Mensuration,Metadata,Tilemap",
 "defaultMosaicMethod": "Center",
 "allowedMosaicMethods": "",
 "sortField": "",
 "sortValue": null,
 "sortAscending": true,
 "mosaicOperator": "First",
 "defaultCompressionQuality": 75,
 "defaultResamplingMethod": "Bilinear",
 "maxImageHeight": 4100,
 "maxImageWidth": 15000,
 "allowRasterFunction": true,
 "rasterFunctionInfos": [
  {
   "name": "None",
   "description": "",
   "help": ""
  }
 ],
 "rasterTypeInfos": [
  {
   "name": "Raster Dataset",
   "description": "Supports all ArcGIS Raster Datasets",
   "help": ""
  }
 ],
 "mensurationCapabilities": "Basic",
 "hasHistograms": true,
 "hasColormap": false,
 "hasRasterAttributeTable": false,
 "minScale": 0,
 "maxScale": 0,
 "exportTilesAllowed": false,
 "hasMultidimensions": false,
 "supportsStatistics": false,
 "supportsAdvancedQueries": false,
 "editFieldsInfo": null,
 "ownershipBasedAccessControlForRasters": null,
 "allowComputeTiePoints": false,
 "useStandardizedQueries": true,
 "advancedQueryCapabilities": {
  "useStandardizedQueries": true,
  "supportsStatistics": false,
  "supportsOrderBy": false,
  "supportsDistinct": false,
  "supportsPagination": false
 },
 "spatialReference": {
  "wkid": 102736,
  "latestWkid": 2274
 }
}
