View In:
ArcGIS JavaScript
ArcGIS Online Map Viewer
ArcGIS Earth
ArcMap
View Footprint In:
ArcGIS Online Map Viewer
Service Description: Ortho flown in Dec 2023 Leaf off
Name: Orthos/OrthosDec_2023_202410072307
Description: Ortho flown in Dec 2023 Leaf off
Single Fused Map Cache: false
Extent:
XMin: 1727686.7599076615
YMin: 656896.6978609003
XMax: 1734015.9543045084
YMax: 662942.8879922208
Spatial Reference: 102736
(2274)
Initial Extent:
XMin: 1727686.7599076615
YMin: 656896.6978609003
XMax: 1734015.9543045084
YMax: 662942.8879922208
Spatial Reference: 102736
(2274)
Full Extent:
XMin: 1727686.7599076615
YMin: 656896.6978609003
XMax: 1734015.9543045084
YMax: 662942.8879922208
Spatial Reference: 102736
(2274)
Pixel Size X: 0.12288504799236827
Pixel Size Y: 0.12288504799236823
Band Count: 4
Pixel Type: U16
RasterFunction Infos: {"rasterFunctionInfos": [{
"name": "None",
"description": "",
"help": ""
}]}
Mensuration Capabilities: Basic
Has Histograms: true
Has Colormap: false
Has Multi Dimensions : false
Rendering Rule:
Min Scale: 0
Max Scale: 0
Copyright Text:
Service Data Type: esriImageServiceDataTypeGeneric
Min Values: 0, 0, 0, 0
Max Values: 255, 255, 255, 255
Mean Values: 118.86284853933, 119.43185009096, 118.44770978378, 254.95339400459
Standard Deviation Values: 48.901174886612, 48.166702108312, 51.17015248413, 3.447079447725
Object ID Field:
Fields:
None
Default Mosaic Method: Center
Allowed Mosaic Methods:
SortField:
SortValue: null
Mosaic Operator: First
Default Compression Quality: 75
Default Resampling Method: Bilinear
Max Record Count: null
Max Image Height: 4100
Max Image Width: 15000
Max Download Image Count: null
Max Mosaic Image Count: null
Allow Raster Function: true
Allow Copy: true
Allow Analysis: true
Allow Compute TiePoints: false
Supports Statistics: false
Supports Advanced Queries: false
Use StandardizedQueries: true
Raster Type Infos:
Name: Raster Dataset
Description: Supports all ArcGIS Raster Datasets
Help:
Has Raster Attribute Table: false
Edit Fields Info: null
Ownership Based AccessControl For Rasters: null
Child Resources:
Info
Histograms
Statistics
Key Properties
Legend
Raster Function Infos
Supported Operations:
Export Image
Identify
Measure
Compute Histograms
Compute Statistics Histograms
Get Samples
Compute Class Statistics
Query Boundary
Compute Pixel Location
Compute Angles
Validate
Project