{
 "currentVersion": 10.91,
 "serviceDescription": "Ortho flown in Dec 2023 Leaf off",
 "name": "Orthos/OrthosDec_2023_202410072307",
 "description": "Ortho flown in Dec 2023 Leaf off",
 "extent": {
  "xmin": 1727686.7599076615,
  "ymin": 656896.6978609003,
  "xmax": 1734015.9543045084,
  "ymax": 662942.8879922208,
  "spatialReference": {
   "wkid": 102736,
   "latestWkid": 2274
  }
 },
 "initialExtent": {
  "xmin": 1727686.7599076615,
  "ymin": 656896.6978609003,
  "xmax": 1734015.9543045084,
  "ymax": 662942.8879922208,
  "spatialReference": {
   "wkid": 102736,
   "latestWkid": 2274
  }
 },
 "fullExtent": {
  "xmin": 1727686.7599076615,
  "ymin": 656896.6978609003,
  "xmax": 1734015.9543045084,
  "ymax": 662942.8879922208,
  "spatialReference": {
   "wkid": 102736,
   "latestWkid": 2274
  }
 },
 "hasMultidimensions": false,
 "pixelSizeX": 0.12288504799236827,
 "pixelSizeY": 0.12288504799236823,
 "datasetFormat": "TIFF",
 "uncompressedSize": 20273192080,
 "blockWidth": 128,
 "blockHeight": 128,
 "compressionType": "LZW",
 "bandNames": [
  "Band_1",
  "Band_2",
  "Band_3",
  "Band_4"
 ],
 "allowCopy": true,
 "allowAnalysis": true,
 "bandCount": 4,
 "noDataValue": 65535,
 "noDataValues": [
  65535,
  65535,
  65535,
  65535
 ],
 "pixelType": "U16",
 "minPixelSize": 0,
 "maxPixelSize": 0,
 "copyrightText": "",
 "serviceDataType": "esriImageServiceDataTypeGeneric",
 "serviceSourceType": "esriImageServiceSourceTypeDataset",
 "minValues": [
  0,
  0,
  0,
  0
 ],
 "maxValues": [
  255,
  255,
  255,
  255
 ],
 "meanValues": [
  118.86284853933,
  119.43185009096,
  118.44770978378,
  254.95339400459
 ],
 "stdvValues": [
  48.901174886612,
  48.166702108312,
  51.17015248413,
  3.447079447725
 ],
 "objectIdField": "",
 "fields": [],
 "capabilities": "Image,Metadata,Mensuration",
 "defaultMosaicMethod": "Center",
 "allowedMosaicMethods": "",
 "sortField": "",
 "sortValue": null,
 "sortAscending": true,
 "mosaicOperator": "First",
 "defaultCompressionQuality": 75,
 "defaultResamplingMethod": "Bilinear",
 "maxImageHeight": 4100,
 "maxImageWidth": 15000,
 "allowRasterFunction": true,
 "rasterFunctionInfos": [
  {
   "name": "None",
   "description": "",
   "help": ""
  }
 ],
 "rasterTypeInfos": [
  {
   "name": "Raster Dataset",
   "description": "Supports all ArcGIS Raster Datasets",
   "help": ""
  }
 ],
 "mensurationCapabilities": "Basic",
 "hasHistograms": true,
 "hasColormap": false,
 "hasRasterAttributeTable": false,
 "minScale": 0,
 "maxScale": 0,
 "exportTilesAllowed": false,
 "supportsStatistics": false,
 "supportsAdvancedQueries": false,
 "editFieldsInfo": null,
 "ownershipBasedAccessControlForRasters": null,
 "allowComputeTiePoints": false,
 "useStandardizedQueries": true,
 "advancedQueryCapabilities": {
  "useStandardizedQueries": true,
  "supportsStatistics": false,
  "supportsOrderBy": false,
  "supportsDistinct": false,
  "supportsPagination": false
 },
 "spatialReference": {
  "wkid": 102736,
  "latestWkid": 2274
 }
}
